Workbook

Sheet صورت وضعیت
A1: صندوق سرمایه‌گذاری مشترک بانک اقتصاد نوین
A2: صورت وضعیت پرتفوی
A3: برای ماه منتهی به 1405/05/31
A9: صندوق سرمایه‌گذاری مشترک بانک اقتصاد نوین
A10: صورت وضعیت پرتفوی
A11: به تاریخ 1405/05/31

Sheet سهام
A1: صندوق سرمایه‌گذاری مشترک بانک اقتصاد نوین | AF1: 1925058651372
A2: صورت وضعیت پرتفوی
A3: به تاریخ 1405/05/31
A4: -1 | B4: سرمایه گذاری ها
A5: -1-1 | C5: سرمایه گذاری در سهام و حق تقدم سهام
E6: 1405/04/31 | K6: تغییرات طی دوره | S6: 1405/05/31
K7: خرید طی دوره | O7: فروش طی دوره
D8: تعداد | G8: بهای تمام شده | I8: خالص ارزش فروش | K8: تعداد | M8: بهای تمام شده | O8: تعداد | Q8: مبلغ فروش | S8: تعداد | U8: قیمت بازار هر سهم | W8: بهای تمام شده | Y8: خالص ارزش فروش | AA8: درصد به کل دارایی ها
A9: آریان کیمیا تک | D9: 2700000 | G9: 19638207270 | I9: 40428056610 | K9: 0 | M9: 0 | O9: -300000 | Q9: 5051646597 | S9: 2400000 | U9: 16960 | W9: 17456184240 | Y9: 40389358080 | AA9: =Y9/$AF$1 -> 0.020980845
A10: اقتصادی و خودکفایی آزادگان | D10: 200000 | G10: 1568135208 | I10: 2683098080 | K10: 0 | M10: 0 | O10: 0 | Q10: 0 | S10: 200000 | U10: 14040 | W10: 1568135208 | Y10: 2786294160 | AA10: =Y10/$AF$1 -> 0.0014473814
A11: ایران‌ خودرو | D11: 40000000 | G11: 14550352428 | I11: 19924781600 | K11: 0 | M11: 0 | O11: 0 | Q11: 0 | S11: 40000000 | U11: 647 | W11: 14550352428 | Y11: 25679947600 | AA11: =Y11/$AF$1 -> 0.013339826
A12: ایران‌یاساتایرورابر | D12: 3321053 | G12: 19482351332 | I12: 2.0859763e+10 | K12: 0 | M12: 0 | O12: -1 | Q12: 1 | S12: 3321052 | U12: 8490 | W12: 19482345466 | Y12: 2.7977778e+10 | AA12: =Y12/$AF$1 -> 0.014533468
A13: بانک پاسارگاد | D13: 200000 | G13: 1864955033 | I13: 1690828080 | K13: 0 | M13: 0 | O13: 0 | Q13: 0 | S13: 200000 | U13: 10890 | W13: 1864955033 | Y13: 2161164060 | AA13: =Y13/$AF$1 -> 0.0011226484
A14: بانک سامان | D14: 1600000 | G14: 9192240164 | I14: 9509915680 | K14: 0 | M14: 0 | O14: 0 | Q14: 0 | S14: 1600000 | U14: 8190 | W14: 9192240164 | Y14: 13002706080 | AA14: =Y14/$AF$1 -> 0.0067544467
A15: بانک سینا | D15: 1600000 | G15: 4225627133 | I15: 3791265216 | K15: 0 | M15: 0 | O15: 0 | Q15: 0 | S15: 1600000 | U15: 3220 | W15: 4225627133 | Y15: 5112175040 | AA15: =Y15/$AF$1 -> 0.0026555944
A16: بانک صادرات ایران | D16: 34290521 | G16: 21938889227 | I16: 2.164019e+10 | K16: 0 | M16: 0 | O16: 0 | Q16: 0 | S16: 34290521 | U16: 905 | W16: 21938889227 | Y16: 3.0793037e+10 | AA16: =Y16/$AF$1 -> 0.015995896
A17: بانک ملت | D17: 33638802 | G17: 18297790502 | I17: 3.7317469e+10 | K17: 0 | M17: 0 | O17: -18638802 | Q17: 22423732470 | S17: 15000000 | U17: 1357 | W17: 8159234018 | Y17: 20197655850 | AA17: =Y17/$AF$1 -> 0.010491969
A18: بانک‌اقتصادنوین‌ | D18: 21674445 | G18: 17856297391 | I18: 5.8326717e+10 | K18: 0 | M18: 0 | O18: 0 | Q18: 0 | S18: 21674445 | U18: 3400 | W18: 17856297391 | Y18: 7.3123465e+10 | AA18: =Y18/$AF$1 -> 0.037985058
A19: بیمه اتکایی ایران معین | D19: 426720 | G19: 619940930 | I19: 9.1586061e+08 | K19: 0 | M19: 0 | O19: 0 | Q19: 0 | S19: 426720 | U19: 2320 | W19: 619940930 | Y19: 9.8233777e+08 | AA19: =Y19/$AF$1 -> 0.00051028979
A20: بیمه دانا | D20: 1891700 | G20: 6613179564 | I20: 3.5852174e+09 | K20: 0 | M20: 0 | O20: 0 | Q20: 0 | S20: 1891700 | U20: 2231 | W20: 6613179564 | Y20: 4.1877591e+09 | AA20: =Y20/$AF$1 -> 0.002175393
... A33: پویا زرکان آق دره | D33: 250000 | G33: 11623044150 | I33: 37681453250 | K33: 0 | M33: 0 | O33: 0 | Q33: 0 | S33: 250000 | U33: 199200 | W33: 11623044150 | Y33: 49415046000 | AA33: =Y33/$AF$1 -> 0.025669372
A34: تامین سرمایه نوین | D34: 17479827 | G34: 23694364022 | I34: 30856235402 | K34: 0 | M34: 0 | O34: 0 | Q34: 0 | S34: 17479827 | U34: 2648 | W34: 23694364022 | Y34: =45928786617-11 -> 45928786606 | AA34: =Y34/$AF$1 -> 0.023858383
A35: تایدواترخاورمیانه | D35: 4482353 | G35: 12306968416 | I35: 3.3001967e+10 | K35: 0 | M35: 0 | O35: -1 | Q35: 1 | S35: 4482352 | U35: 7420 | W35: 12306965670 | Y35: 3.3001959e+10 | AA35: =Y35/$AF$1 -> 0.017143353
A36: توزیع دارو پخش | D36: 400000 | G36: 1538456946 | I36: 2159179520 | K36: 0 | M36: 0 | O36: 0 | Q36: 0 | S36: 400000 | U36: 5730 | W36: 1538456946 | Y36: 2274282840 | AA36: =Y36/$AF$1 -> 0.0011814096
A37: تولید انرژی برق شمس پاسارگاد | D37: 900000 | G37: 2934412033 | I37: 8876847420 | K37: 0 | M37: 0 | O37: 0 | Q37: 0 | S37: 900000 | U37: 11710 | W37: 2934412033 | Y37: 10457533530 | AA37: =Y37/$AF$1 -> 0.0054323194
A38: تولیدمواداولیه‌داروپخش‌ | D38: 900000 | G38: 21626459741 | I38: 38284753410 | K38: 0 | M38: 0 | O38: 0 | Q38: 0 | S38: 900000 | U38: 50400 | W38: 21626459741 | Y38: 45009367200 | AA38: =Y38/$AF$1 -> 0.023380777
A39: تولیدی برنا باطری | D39: 279835 | G39: 1751957256 | I39: 1.59939e+09 | K39: 0 | M39: 0 | O39: -279835 | Q39: 1797441559 | S39: 0 | U39: 0 | W39: 0 | Y39: 0 | AA39: =Y39/$AF$1 -> 0
A40: تولیدی کوچین | D40: 250000 | G40: 2108560241 | I40: 3331546525 | K40: 0 | M40: 0 | O40: 0 | Q40: 0 | S40: 250000 | U40: 15290 | W40: 2108560241 | Y40: 3792952075 | AA40: =Y40/$AF$1 -> 0.0019703047
A41: چینی ایران | D41: 617383 | G41: 1854876906 | I41: 6.1261063e+08 | K41: 0 | M41: 0 | O41: 0 | Q41: 0 | S41: 617383 | U41: 1000 | W41: 1854876906 | Y41: 6.1261063e+08 | AA41: =Y41/$AF$1 -> 0.00031822959
A42: ح . سیمان‌هرمزگان‌ | D42: 2400000 | G42: 30892800000 | I42: 55059077760 | K42: 0 | M42: 0 | O42: 0 | Q42: 0 | S42: 2400000 | U42: 23120 | W42: 30892800000 | Y42: 55059077760 | AA42: =Y42/$AF$1 -> 0.028601247
A43: ح.فرآورده های دامی ولبنی دالاهو | D43: 3193394 | G43: 12176411322 | I43: 1.7301151e+10 | K43: 0 | M43: 0 | O43: -1 | Q43: 1 | S43: 3193393 | U43: 6010 | W43: 12176407509 | Y43: 1.9043936e+10 | AA43: =Y43/$AF$1 -> 0.0098926521
A44: داروسازی‌ جابرابن‌حیان‌ | D44: 100000 | G44: 1587217105 | I44: 2298097320 | K44: 130000 | M44: 3813833006 | O44: 0 | Q44: 0 | S44: 230000 | U44: 38150 | W44: 5401050111 | Y44: 8706673115 | AA44: =Y44/$AF$1 -> 0.0045228093
A45: داروسازی‌ سینا | D45: 500000 | G45: 15514384000 | I45: 34873329150 | K45: 0 | M45: 0 | O45: 0 | Q45: 0 | S45: 500000 | U45: 90260 | W45: 15514384000 | Y45: 44781145100 | AA45: =Y45/$AF$1 -> 0.023262224
A46: دارویی و نهاده های زاگرس دارو | D46: 2000000 | G46: 8185087645 | I46: 37408579000 | K46: 0 | M46: 0 | O46: 0 | Q46: 0 | S46: 2000000 | U46: 26190 | W46: 8185087645 | Y46: 51975102600 | AA46: =Y46/$AF$1 -> 0.026999231
... A106: کشت و دامداری فکا | D106: 0 | G106: 0 | I106: 0 | K106: 1200000 | M106: 9216303607 | O106: 0 | Q106: 0 | S106: 1200000 | U106: 7890 | W106: 9216303607 | Y106: 9394812360 | AA106: =Y106/$AF$1 -> 0.0048802733
G107: =SUM(G9:G106) -> 851087939666 | I107: =SUM(I9:I106) -> 1.4724423e+12 | M107: =SUM(M9:M106) -> 76544655678 | Q107: =SUM(Q9:Q106) -> 115603689932 | W107: =SUM(W9:W106) -> 851863124122 | Y107: =SUM(Y9:Y106) -> 1.7190414e+12 | AA107: =SUM(AA9:AA106) -> 0.89298132
Q111: 115603689932
M112: 76544655678 | W112: 808793916613 | Y112: 1719041412086
G113: 851087939666 | I113: 1.4724423e+12 | M113: =M107-M112 -> 0 | Q113: =Q111-Q107 -> 0 | W113: 43069207509
W114: =SUM(W112:W113) -> 851863124122
G115: =G113-G107 -> 0 | I115: =I107-I113 -> 0 | W115: =W114-W107 -> 0 | Y115: =Y112-Y107 -> 0.44042969

Sheet سپرده
A1: صندوق سرمایه‌گذاری مشترک بانک اقتصاد نوین | T1: 1925058651372
A2: صورت وضعیت پرتفوی
A3: به تاریخ 1405/05/31
A5: -4-1 | B5: سرمایه‌گذاری در سپرده‌ بانکی
D6: 1405/04/31 | F6: تغییرات طی دوره | J6: 1405/05/31
D7: مبلغ | F7: افزایش | H7: کاهش | J7: مبلغ | L7: درصد به کل دارایی ها
A8: بانک اقتصاد نوین | D8: 7049826019 | F8: 114900307055 | H8: 60000375000 | J8: =D8+F8-H8 -> 61949758074 | L8: =J8/$T$1 -> 0.032180712
A9: بانک خاورمیانه | D9: 8254319259 | F9: 60036853124 | H9: 41750089229 | J9: =D9+F9-H9 -> 26541083154 | L9: =J9/$T$1 -> 0.013787156
A10: بانک تجارت | D10: 500042500 | F10: 0 | H10: 0 | J10: =D10+F10-H10 -> 500042500 | L10: =J10/$T$1 -> 0.00025975442
A11: بانک صادرات | D11: 64207791749 | F11: 1877292749 | H11: 0 | J11: =D11+F11-H11 -> 66085084498 | L11: =J11/$T$1 -> 0.034328868 | M11: 0
D12: =SUM(D8:D11) -> 80011979527 | F12: =SUM(F8:F11) -> 176814452928 | H12: =SUM(H8:H11) -> 101750464229 | J12: =SUM(J8:J11) -> 155075968226 | L12: =SUM(L8:L11) -> 0.08055649
D16: 80011979527 | F16: 176814452928 | H16: 101750464229 | J16: 155075968226
D18: =D12-D16 -> 0 | F18: =F12-F16 -> 0 | H18: =H12-H16 -> 0 | J18: =J12-J16 -> 0

Sheet درآمد
A1: صندوق سرمایه‌گذاری مشترک بانک اقتصاد نوین | T1: 1925058651372
A2: صورت وضعیت درآمدها
A3: برای ماه منتهی به 1405/05/31
A5: -2 | B5: درآمد حاصل از سرمایه گذاری ها
D7: یادداشت | F7: مبلغ | H7: درصد از کل درآمدها | J7: درصد از کل دارایی ها
A8: درآمد حاصل از سرمایه گذاری در سهام و حق تقدم سهام | D8: 1-2 | F8: ='درآمد سرمایه گذاری در سهام'!T121 -> 730503510692 | H8: =F8/$F$11 -> 0.95566454 | J8: =F8/$T$1 -> 0.37947078
A9: درآمد حاصل از سرمایه گذاری در سپرده بانکی و گواهی سپرده | D9: 2-2 | F9: ='درآمد سپرده بانکی'!H12 -> 32228180988 | H9: =F9/$F$11 -> 0.042161782 | J9: =F9/$T$1 -> 0.016741402
A10: سایر درآمدها | D10: 3-2 | F10: ='سایر درآمدها'!F11 -> 1661543326 | H10: =F10/$F$11 -> 0.0021736761 | J10: =F10/$T$1 -> 0.00086311309
F11: =SUM(F8:F10) -> 764393235006 | H11: =SUM(H8:H10) -> 1 | J11: =SUM(J8:J10) -> 0.3970753
F17: 769207708770
F19: =F17-F11 -> 4814473764
F20: 2233249108
F21: 1219346984
F22: 1361877672
F23: =F19-F20-F21-F22 -> 0

Sheet درآمد سرمایه گذاری در سهام
A1: صندوق سرمایه‌گذاری مشترک بانک اقتصاد نوین | AA1: 294528607896
A2: صورت وضعیت درآمدها
A3: برای ماه منتهی به 1405/05/31
A5: -1-2 | B5: درآمد حاصل از سرمایه­گذاری در سهام و حق تقدم سهام
D6: طی ماه | N6: از ابتدای سال مالی
D7: درآمد سود سهام | F7: درآمد تغییر ارزش | H7: درآمد فروش | J7: مبلغ | L7: درصد از کل درآمدها | N7: درآمد سود سهام | P7: درآمد تغییر ارزش | R7: درآمد فروش | T7: مبلغ | V7: درصد از کل درآمدها
A8: نیروکلر | D8: 0 | F8: 0 | H8: 1717489520 | J8: =D8+F8+H8 -> 1717489520 | L8: =J8/$AA$1 -> 0.0058313165 | N8: 554593720 | P8: 0 | R8: 3421665139 | T8: =N8+P8+R8 -> 3976258859 | V8: =T8/درآمد!$F$11 -> 0.0052018499
A9: کشت و صنعت شهداب ناب خراسان | D9: 0 | F9: 0 | H9: 344967006 | J9: =D9+F9+H9 -> 344967006 | L9: =J9/$AA$1 -> 0.0011712513 | N9: 0 | P9: 0 | R9: 303585718 | T9: =N9+P9+R9 -> 303585718 | V9: =T9/درآمد!$F$11 -> 0.00039715909
A10: فرآورده های دامی ولبنی دالاهو | D10: 0 | F10: 1076873480 | H10: -170620087 | J10: =D10+F10+H10 -> 906253393 | L10: =J10/$AA$1 -> 0.0030769622 | N10: 1537265279 | P10: -1293021534 | R10: -170620087 | T10: =N10+P10+R10 -> 73623658 | V10: =T10/درآمد!$F$11 -> 9.631647e-05
A11: ایران‌یاساتایرورابر | D11: 0 | F11: 7118022773 | H11: -7674 | J11: =D11+F11+H11 -> 7118015099 | L11: =J11/$AA$1 -> 0.024167483 | N11: 4871073236 | P11: 2481500556 | R11: -510977420 | T11: =N11+P11+R11 -> 6841596372 | V11: =T11/درآمد!$F$11 -> 0.0089503623
A12: آلومینیوم‌ایران‌ | D12: 0 | F12: 0 | H12: 70523782 | J12: =D12+F12+H12 -> 70523782 | L12: =J12/$AA$1 -> 0.00023944629 | N12: 0 | P12: 0 | R12: 70523782 | T12: =N12+P12+R12 -> 70523782 | V12: =T12/درآمد!$F$11 -> 9.2261128e-05
A13: تولیدی برنا باطری | D13: 0 | F13: 0 | H13: 198051557 | J13: =D13+F13+H13 -> 198051557 | L13: =J13/$AA$1 -> 0.00067243572 | N13: 268175200 | P13: 0 | R13: -1061692767 | T13: =N13+P13+R13 -> -793517567 | V13: =T13/درآمد!$F$11 -> -0.0010381012
A14: پاکدیس | D14: 0 | F14: 373093276 | H14: -8418 | J14: =D14+F14+H14 -> 373084858 | L14: =J14/$AA$1 -> 0.0012667186 | N14: 277457405 | P14: 866442946 | R14: -131863293 | T14: =N14+P14+R14 -> 1012037058 | V14: =T14/درآمد!$F$11 -> 0.0013239744
A15: ح.فرآورده های دامی ولبنی دالاهو | D15: 0 | F15: 1742787835 | H15: -3812 | J15: =D15+F15+H15 -> 1742784023 | L15: =J15/$AA$1 -> 0.0059171978 | N15: 0 | P15: 6867528004 | R15: -3812 | T15: =N15+P15+R15 -> 6867524192 | V15: =T15/درآمد!$F$11 -> 0.0089842818
A16: پتروشیمی غدیر | D16: 0 | F16: 0 | H16: 226059669 | J16: =D16+F16+H16 -> 226059669 | L16: =J16/$AA$1 -> 0.00076753043 | N16: 0 | P16: 0 | R16: 226059669 | T16: =N16+P16+R16 -> 226059669 | V16: =T16/درآمد!$F$11 -> 0.0002957374
A17: گسترش نفت و گاز پارسیان | D17: 0 | F17: 0 | H17: 33 | J17: =D17+F17+H17 -> 33 | L17: =J17/$AA$1 -> 1.1204345e-10 | N17: 870000000 | P17: 0 | R17: -1355440787 | T17: =N17+P17+R17 -> -485440787 | V17: =T17/درآمد!$F$11 -> -0.00063506683
A18: پالایش نفت اصفهان | D18: 0 | F18: 4255539809 | H18: 4695470647 | J18: =D18+F18+H18 -> 8951010456 | L18: =J18/$AA$1 -> 0.030390971 | N18: 2760885342 | P18: 17209184731 | R18: 6130487717 | T18: =N18+P18+R18 -> 26100557790 | V18: =T18/درآمد!$F$11 -> 0.034145459
A19: آریان کیمیا تک | D19: 0 | F19: 2150249087 | H19: 2862698979 | J19: =D19+F19+H19 -> 5012948066 | L19: =J19/$AA$1 -> 0.017020242 | N19: 2670731707 | P19: 22877777118 | R19: 2862698979 | T19: =N19+P19+R19 -> 28411207804 | V19: =T19/درآمد!$F$11 -> 0.037168314
... A61: کویر تایر | D61: 0 | F61: 4048461599 | H61: 0 | J61: =D61+F61+H61 -> 4048461599 | L61: =J61/$AA$1 -> 0.013745563 | N61: 1740000000 | P61: -625130100 | R61: 406830731 | T61: =N61+P61+R61 -> 1521700631 | V61: =T61/درآمد!$F$11 -> 0.0019907301
A62: بانک صادرات ایران | D62: 0 | F62: 9152847468 | H62: 0 | J62: =D62+F62+H62 -> 9152847468 | L62: =J62/$AA$1 -> 0.03107626 | N62: 0 | P62: =8098058331 -> 8098058331 | R62: -1286727944 | T62: =N62+P62+R62 -> 6811330387 | V62: =T62/درآمد!$F$11 -> 0.0089107675
A63: سیمان‌ شرق‌ | D63: 0 | F63: 958532819 | H63: 0 | J63: =D63+F63+H63 -> 958532819 | L63: =J63/$AA$1 -> 0.0032544642 | N63: 0 | P63: 29531939735 | R63: 567776923 | T63: =N63+P63+R63 -> 30099716658 | V63: =T63/درآمد!$F$11 -> 0.039377267
A64: نفت‌ بهران‌ | D64: 300000000 | F64: 591392919 | H64: 0 | J64: =D64+F64+H64 -> 891392919 | L64: =J64/$AA$1 -> 0.0030265071 | N64: 300000000 | P64: 1993015641 | R64: 0 | T64: =N64+P64+R64 -> 2293015641 | V64: =T64/درآمد!$F$11 -> 0.0029997854
A65: مخابرات ایران | D65: 0 | F65: 389366748 | H65: 0 | J65: =D65+F65+H65 -> 389366748 | L65: =J65/$AA$1 -> 0.0013219998 | N65: 53539662 | P65: 386371619 | R65: 0 | T65: =N65+P65+R65 -> 439911281 | V65: =T65/درآمد!$F$11 -> 0.00057550389
A66: بانک سینا | D66: 0 | F66: 1320909824 | H66: 0 | J66: =D66+F66+H66 -> 1320909824 | L66: =J66/$AA$1 -> 0.0044848269 | N66: 200000000 | P66: 886547906 | R66: 0 | T66: =N66+P66+R66 -> 1086547906 | V66: =T66/درآمد!$F$11 -> 0.0014214515
A67: سرمایه‌گذاری‌صندوق‌بازنشستگی‌ | D67: 0 | F67: 2107581480 | H67: 0 | J67: =D67+F67+H67 -> 2107581480 | L67: =J67/$AA$1 -> 0.0071557785 | N67: 1104000000 | P67: -1768225140 | R67: 0 | T67: =N67+P67+R67 -> -664225140 | V67: =T67/درآمد!$F$11 -> -0.00086895738
A68: سرمایه‌گذاری‌نیرو | D68: 84993532 | F68: 272874249 | H68: 0 | J68: =D68+F68+H68 -> 357867781 | L68: =J68/$AA$1 -> 0.0012150527 | N68: 84993532 | P68: -1993470430 | R68: 0 | T68: =N68+P68+R68 -> -1908476898 | V68: =T68/درآمد!$F$11 -> -0.0024967213
A69: پتروشیمی‌شیراز | D69: 0 | F69: -52590310 | H69: 0 | J69: =D69+F69+H69 -> -52590310 | L69: =J69/$AA$1 -> -0.00017855756 | N69: 672979375 | P69: 1653121820 | R69: 0 | T69: =N69+P69+R69 -> 2326101195 | V69: =T69/درآمد!$F$11 -> 0.0030430688
A70: تولیدمواداولیه‌داروپخش‌ | D70: 0 | F70: 6724613789 | H70: 0 | J70: =D70+F70+H70 -> 6724613789 | L70: =J70/$AA$1 -> 0.022831785 | N70: 2352539062 | P70: 23382907459 | R70: 0 | T70: =N70+P70+R70 -> 25735446521 | V70: =T70/درآمد!$F$11 -> 0.03366781
A71: سیمان‌ تهران‌ | D71: 144957820 | F71: 16868589 | H71: 0 | J71: =D71+F71+H71 -> 161826409 | L71: =J71/$AA$1 -> 0.00054944207 | N71: 144957820 | P71: -123820465 | R71: 0 | T71: =N71+P71+R71 -> 21137355 | V71: =T71/درآمد!$F$11 -> 2.7652462e-05
A72: کارخانجات‌داروپخش‌ | D72: 0 | F72: 1750364280 | H72: 0 | J72: =D72+F72+H72 -> 1750364280 | L72: =J72/$AA$1 -> 0.0059429347 | N72: 99829060 | P72: 3790419310 | R72: 0 | T72: =N72+P72+R72 -> 3890248370 | V72: =T72/درآمد!$F$11 -> 0.0050893286
A73: سیمان‌مازندران‌ | D73: 0 | F73: 3549548243 | H73: 0 | J73: =D73+F73+H73 -> 3549548243 | L73: =J73/$AA$1 -> 0.012051625 | N73: 1826000000 | P73: 7116364259 | R73: 0 | T73: =N73+P73+R73 -> 8942364259 | V73: =T73/درآمد!$F$11 -> 0.011698644
A74: سیمان‌شاهرود | D74: 0 | F74: 316534130 | H74: 0 | J74: =D74+F74+H74 -> 316534130 | L74: =J74/$AA$1 -> 0.0010747144 | N74: 151001939 | P74: 625780638 | R74: 0 | T74: =N74+P74+R74 -> 776782577 | V74: =T74/درآمد!$F$11 -> 0.0010162081
... A120: البرزدارو | D120: 0 | F120: 1699807286 | H120: 0 | J120: =D120+F120+H120 -> 1699807286 | L120: =J120/$AA$1 -> 0.0057712808 | N120: 0 | P120: 1699807286 | R120: 0 | T120: =N120+P120+R120 -> 1699807286 | V120: =T120/درآمد!$F$11 -> 0.0022237341
D121: =SUM(D8:D120) -> 6055951685 | F121: =SUM(F8:F120) -> 274152054705 | H121: =SUM(H8:H120) -> 11506139489 | J121: =SUM(J8:J120) -> 291714145879 | L121: =SUM(L8:L120) -> 0.99044418 | N121: =SUM(N8:N120) -> 83790093774 | P121: =SUM(P8:P120) -> 606016727863 | R121: =SUM(R8:R120) -> 40696689055 | T121: =SUM(T8:T120) -> 730503510692 | V121: =SUM(V8:V120) -> 0.95566454
H124: 11506139489
D125: 6055951685 | N125: 83790093774 | P125: 606016727863 | R125: 40696689055
H126: =H124-H121 -> 0
D127: =D121-D125 -> 0 | N127: =N121-N125 -> 0 | P127: =P125-P121 -> 0 | R127: =R125-R121 -> 0

Sheet درآمد سپرده بانکی
A1: صندوق سرمایه‌گذاری مشترک بانک اقتصاد نوین
A2: صورت وضعیت درآمدها
A3: برای ماه منتهی به 1405/05/31
A5: -2-2 | B5: درآمد حاصل از سرمایه­گذاری در سپرده بانکی و گواهی سپرده
D6: طی ماه | H6: از ابتدای سال مالی
D7: سود سپرده بانکی و گواهی سپرده | F7: درصد سود به میانگین سپرده | H7: سود سپرده بانکی و گواهی سپرده | J7: درصد سود به میانگین سپرده
A8: اقتصاد نوین | D8: 7313713 | F8: =D8/$D$12 -> 0.0042326289 | H8: 45023681 | J8: =H8/$H$12 -> 0.0013970283
A9: خاورمیانه | D9: 36853124 | F9: =D9/$D$12 -> 0.021327826 | H9: 49814348 | J9: =H9/$H$12 -> 0.0015456767
A10: تجارت | D10: 0 | F10: =D10/$D$12 -> 0 | H10: 430000 | J10: =H10/$H$12 -> 1.334236e-05
A11: صادرات | D11: 1683769437 | E11: 0 | F11: =D11/$D$12 -> 0.97443955 | G11: 0 | H11: 32132912959 | J11: =H11/$H$12 -> 0.99704395
D12: =SUM(D8:D11) -> 1727936274 | F12: =SUM(F8:F11) -> 1 | H12: =SUM(H8:H11) -> 32228180988 | J12: =SUM(J8:J11) -> 1
D16: 1727936274 | H16: 32228180988
D17: =D12-D16 -> 0 | H17: =H12-H16 -> 0

Sheet سایر درآمدها
A1: صندوق سرمایه‌گذاری مشترک بانک اقتصاد نوین
A2: صورت وضعیت درآمدها
A3: برای ماه منتهی به 1405/05/31
A5: -3-2 | B5: سایر درآمدها
D6: طی ماه | F6: 1405/05/31
D7: مبلغ | F7: مبلغ
A8: تنزیل سود سهام | D8: 0 | F8: 766396818
A9: تنزیل سود بانک | D9: 0 | F9: 126928328
A10: تعدیل کارمزد کارگزار | D10: 0 | F10: 768218180
D11: 0 | F11: =SUM(F8:F10) -> 1661543326

Sheet درآمد سود سهام
A1: صندوق سرمایه‌گذاری مشترک بانک اقتصاد نوین
A2: صورت وضعیت درآمدها
A3: برای ماه منتهی به 1405/05/31
A5: درآمد سود سهام
C6: اطلاعات مجمع | I6: طی ماه | O6: از ابتدای سال مالی
C7: تاریخ تشکیل مجمع | E7: تعداد سهام متعلقه در زمان مجمع | G7: سود متعلق به هر سهم | I7: جمع درآمد سود سهام | K7: هزینه تنزیل | M7: خالص درآمد سود سهام | O7: جمع درآمد سود سهام | Q7: هزینه تنزیل | S7: خالص درآمد سود سهام
A8: نفت‌ بهران‌ | C8: 1405/05/05 | E8: 100000 | G8: 3000 | I8: 300000000 | K8: 0 | M8: =I8+K8 -> 300000000 | O8: 300000000 | Q8: 0 | S8: =O8+Q8 -> 300000000
A9: تایدواترخاورمیانه | C9: 1405/04/29 | E9: 4482353 | G9: 850 | I9: 0 | K9: 0 | M9: =I9+K9 -> 0 | O9: 3810000050 | Q9: -51486487 | S9: =O9+Q9 -> 3758513563
A10: مخابرات ایران | C10: 1405/04/23 | E10: 1200000 | G10: 47 | I10: 0 | K10: 0 | M10: =I10+K10 -> 0 | O10: 56400000 | Q10: -2860338 | S10: =O10+Q10 -> 53539662
A11: بانک سینا | C11: 1405/04/31 | E11: 1600000 | G11: 125 | I11: 0 | K11: 0 | M11: =I11+K11 -> 0 | O11: 200000000 | Q11: 0 | S11: =O11+Q11 -> 200000000
A12: بانک‌اقتصادنوین‌ | C12: 1405/04/30 | E12: 17683818 | G12: 126 | I12: 0 | K12: 0 | M12: =I12+K12 -> 0 | O12: 2228161068 | Q12: 0 | S12: =O12+Q12 -> 2228161068
A13: سرمایه‌گذاری‌صندوق‌بازنشستگی‌ | C13: 1405/04/30 | E13: 600000 | G13: 1840 | I13: 0 | K13: 0 | M13: =I13+K13 -> 0 | O13: 1104000000 | Q13: 0 | S13: =O13+Q13 -> 1104000000
A14: ملی‌ صنایع‌ مس‌ ایران‌ | C14: 1405/04/31 | E14: 1885714 | G14: 450 | I14: 848571300 | K14: -14285712 | M14: =I14+K14 -> 834285588 | O14: 848571300 | Q14: -14285712 | S14: =O14+Q14 -> 834285588
A15: سرمایه‌گذاری‌نیرو | C15: 1405/05/31 | E15: 1000000 | G15: 90 | I15: 90000000 | K15: -5006468 | M15: =I15+K15 -> 84993532 | O15: 90000000 | Q15: -5006468 | S15: =O15+Q15 -> 84993532
A16: ایران‌یاساتایرورابر | C16: 1405/03/13 | E16: 1600000 | G16: 3132 | I16: 0 | K16: 0 | M16: =I16+K16 -> 0 | O16: 5011200000 | Q16: -140126764 | S16: =O16+Q16 -> 4871073236
A17: پتروشیمی‌شیراز | C17: 1405/03/27 | E17: 100000 | G17: 6928 | I17: 0 | K17: 0 | M17: =I17+K17 -> 0 | O17: 692800000 | Q17: -19820625 | S17: =O17+Q17 -> 672979375
A18: داروسازی‌ سینا | C18: 1405/03/31 | E18: 650000 | G18: 5700 | I18: 0 | K18: 0 | M18: =I18+K18 -> 0 | O18: 3705000000 | Q18: 0 | S18: =O18+Q18 -> 3705000000
A19: تولیدمواداولیه‌داروپخش‌ | C19: 1405/04/16 | E19: 900000 | G19: 2750 | I19: 0 | K19: 0 | M19: =I19+K19 -> 0 | O19: 2475000000 | Q19: -122460938 | S19: =O19+Q19 -> 2352539062
... A79: رهیاب پیام گستران | C79: 1405/04/31 | E79: 435000 | G79: 414 | I79: 0 | K79: 0 | M79: =I79+K79 -> 0 | O79: 180090000 | Q79: -9797642 | S79: =O79+Q79 -> 170292358
I80: =SUM(I8:I79) -> 6241900957 | K80: =SUM(K8:K79) -> -185949272 | M80: =SUM(M8:M79) -> 6055951685 | O80: =SUM(O8:O79) -> 85151971446 | Q80: =SUM(Q8:Q79) -> -1361877672 | S80: =SUM(S8:S79) -> 83790093774
I84: 6241900517 | K84: 185949272 | O84: 85151971446 | Q84: 1361877672
K86: =K84+K80 -> 0 | O86: =O80-O84 -> 0 | Q86: =Q84+Q80 -> 0

Sheet سود سپرده بانکی
A1: صندوق سرمایه‌گذاری مشترک بانک اقتصاد نوین
A2: صورت وضعیت درآمدها
A3: برای ماه منتهی به 1405/05/31
A5: سود سپرده بانکی
C6: طی ماه | I6: از ابتدای سال مالی
C7: درآمد سود | E7: هزینه تنزیل | G7: خالص درآمد | I7: درآمد سود | K7: هزینه تنزیل | M7: خالص درآمد
A8: اقتصاد نوین | C8: 7313713 | E8: 0 | G8: =C8+E8 -> 7313713 | I8: 45023681 | K8: 0 | M8: =I8+K8 -> 45023681
A9: خاورمیانه | C9: 36853124 | E9: 0 | G9: =C9+E9 -> 36853124 | I9: 49814348 | K9: 0 | M9: =I9+K9 -> 49814348
A10: تجارت | C10: 0 | E10: 0 | G10: =C10+E10 -> 0 | I10: 430000 | K10: 0 | M10: =I10+K10 -> 430000
A11: صادرات | C11: 1683769437 | D11: 0 | E11: 0 | F11: 0 | G11: =C11+E11 -> 1683769437 | H11: 0 | I11: 32132912959 | J11: 0 | K11: -146991958 | L11: 0 | M11: =I11+K11 -> 31985921001 | N11: 0
C12: =SUM(C8:C11) -> 1727936274 | E12: =SUM(E8:E11) -> 0 | G12: =SUM(G8:G11) -> 1727936274 | I12: =SUM(I8:I11) -> 32228180988 | K12: =SUM(K8:K11) -> -146991958 | M12: =SUM(M8:M11) -> 32081189030
C16: 1727936274 | I16: 32228180988 | K16: 146991958
C18: =C12-C16 -> 0 | I18: =I12-I16 -> 0 | K18: =K12+K16 -> 0

Sheet درآمد ناشی از فروش
A1: صندوق سرمایه‌گذاری مشترک بانک اقتصاد نوین
A2: صورت وضعیت درآمدها
A3: برای ماه منتهی به 1405/05/31
A5: سود(زیان) حاصل از فروش اوراق بهادار
C6: طی ماه | K6: از ابتدای سال مالی
C7: تعداد | E7: خالص بهای فروش | G7: ارزش دفتری | I7: سود و زیان ناشی از فروش | K7: تعداد | M7: خالص بهای فروش | O7: ارزش دفتری | Q7: سود و زیان ناشی از فروش
A8: نیروکلر | C8: 447253 | E8: 10122980727 | G8: 8405491207 | I8: =E8-G8 -> 1717489520 | K8: 447253 | M8: 10122980727 | O8: 6701315588 | Q8: =M8-O8 -> 3421665139
A9: کشت و صنعت شهداب ناب خراسان | C9: 1000000 | E9: 2097315826 | G9: 1752348820 | I9: =E9-G9 -> 344967006 | K9: 1000000 | M9: 2097315826 | O9: 1793730108 | Q9: =M9-O9 -> 303585718
A10: فرآورده های دامی ولبنی دالاهو | C10: 206000 | E10: 1449250030 | G10: 1619870117 | I10: =E10-G10 -> -170620087 | K10: 206000 | M10: 1449250030 | O10: 1619870117 | Q10: =M10-O10 -> -170620087
A11: ایران‌یاساتایرورابر | C11: 1 | E11: 1 | G11: 7675 | I11: =E11-G11 -> -7674 | K11: 469196 | M11: 4731884498 | O11: 5242861918 | Q11: =M11-O11 -> -510977420
A12: آلومینیوم‌ایران‌ | C12: 100000 | E12: 1499319976 | G12: 1428796194 | I12: =E12-G12 -> 70523782 | K12: 100000 | M12: 1499319976 | O12: 1428796194 | Q12: =M12-O12 -> 70523782
A13: تولیدی برنا باطری | C13: 279835 | E13: 1797441559 | G13: 1599390002 | I13: =E13-G13 -> 198051557 | K13: 670438 | M13: 3861198038 | O13: 4922890805 | Q13: =M13-O13 -> -1061692767
A14: پاکدیس | C14: 1 | E14: 1 | G14: 8419 | I14: =E14-G14 -> -8418 | K14: 50001 | M14: 1574849526 | O14: 1706712819 | Q14: =M14-O14 -> -131863293
A15: ح.فرآورده های دامی ولبنی دالاهو | C15: 1 | E15: 1 | G15: 3813 | I15: =E15-G15 -> -3812 | K15: 1 | M15: 1 | O15: 3813 | Q15: =M15-O15 -> -3812
A16: پتروشیمی غدیر | C16: 180000 | E16: 12016786671 | G16: 11790727002 | I16: =E16-G16 -> 226059669 | K16: 180000 | M16: 12016786671 | O16: 11790727002 | Q16: =M16-O16 -> 226059669
A17: گسترش نفت و گاز پارسیان | C17: 300000 | E17: 6968712243 | G17: =6968712243-33 -> 6968712210 | I17: =E17-G17 -> 33 | K17: 300000 | M17: 6968712243 | O17: 8324153030 | Q17: =M17-O17 -> -1355440787
A18: پالایش نفت اصفهان | C18: 771813 | E18: 9059968728 | G18: 4364498081 | I18: =E18-G18 -> 4695470647 | K18: 1771813 | M18: 17026480288 | O18: 10895992571 | Q18: =M18-O18 -> 6130487717
A19: آریان کیمیا تک | C19: 300000 | E19: 5051646597 | G19: 2188947618 | I19: =E19-G19 -> 2862698979 | K19: 300000 | M19: 5051646597 | O19: 2188947618 | Q19: =M19-O19 -> 2862698979
A20: گروه مالی نماد غدیر(سهامی عام) | C20: 400000 | E20: 1440776052 | G20: 1141904316 | I20: =E20-G20 -> 298871736 | K20: 400000 | M20: 1440776052 | O20: 1183544573 | Q20: =M20-O20 -> 257231479
A21: فولاد مبارکه اصفهان | C21: 7476723 | E21: 18494777634 | G21: 23125577480 | I21: =E21-G21 -> -4630799846 | K21: 7476724 | M21: 18494777635 | O21: 23125580573 | Q21: =M21-O21 -> -4630802938
A22: تایدواترخاورمیانه | C22: 1 | E22: 1 | G22: 6400 | I22: =E22-G22 -> -6399 | K22: 1000001 | M22: 9821517797 | O22: 8047316149 | Q22: =M22-O22 -> 1774201648
A23: پارس‌ مینو | C23: 1805926 | E23: 3125189077 | G23: 1491877299 | I23: =E23-G23 -> 1633311778 | K23: 2476364 | M23: 4251466669 | O23: 2045726809 | Q23: =M23-O23 -> 2205739860
A24: کاشی‌ وسرامیک‌ حافظ‌ | C24: 1400000 | E24: 3152044891 | G24: 2306035488 | I24: =E24-G24 -> 846009403 | K24: 8000000 | M24: 13191634634 | O24: 13177345514 | Q24: =M24-O24 -> 14289120
A25: صنایع پتروشیمی کرمانشاه | C25: 1 | E25: 1 | G25: 29089 | I25: =E25-G25 -> -29088 | K25: 1 | M25: 1 | O25: 29089 | Q25: =M25-O25 -> -29088
A26: پتروشیمی پارس | C26: 1588175 | E26: 3464442448 | G26: 4403279643 | I26: =E26-G26 -> -938837195 | K26: 1588175 | M26: 3464442448 | O26: 4403279643 | Q26: =M26-O26 -> -938837195
A27: ملی‌ صنایع‌ مس‌ ایران‌ | C27: 1 | E27: 1 | G27: 10508 | I27: =E27-G27 -> -10507 | K27: 300001 | M27: 4782352119 | O27: 3765351958 | Q27: =M27-O27 -> 1017000161
A28: سیمان‌هرمزگان‌ | C28: 600000 | E28: 12478787629 | G28: 11228527320 | I28: =E28-G28 -> 1250260309 | K28: 800000 | M28: 16985678090 | O28: 15749309440 | Q28: =M28-O28 -> 1236368650
A29: فولاد کاوه جنوب کیش | C29: 200000 | E29: 960517368 | G29: 934718340 | I29: =E29-G29 -> 25799028 | K29: 200000 | M29: 960517368 | O29: 1229266057 | Q29: =M29-O29 -> -268748689
... A63: سیمان‌ شرق‌ | C63: 0 | E63: 0 | G63: 0 | I63: =E63-G63 -> 0 | K63: 360000 | M63: 5343770882 | O63: 4775993959 | Q63: =M63-O63 -> 567776923
E64: 115603689932 | G64: 105165221535 | I64: =SUM(I8:I63) -> 11506139489 | M64: =SUM(M8:M63) -> 443197227089 | O64: =SUM(O8:O63) -> 402500538034 | Q64: =SUM(Q8:R63) -> 40696689055
Q67: 44149288959
I68: 11339049092 | Q68: -3812
I69: -3812 | Q69: =SUM(Q67:Q68) -> 44149285147
I70: =SUM(I68:I69) -> 11339045280 | Q70: =Q69-Q64 -> 3452596092
I71: =I70-I64 -> -167094209 | Q71: 1219346984
I72: 582521337 | Q72: 2233249108
I73: 318055546 | Q73: =Q70-Q71-Q72 -> 0
I74: =I71-I72-I73 -> -1067671092
I75: =I74+'درآمد ناشی از تغییر قیمت اوراق'!I106 -> 0

Sheet درآمد ناشی از تغییر قیمت اوراق
A1: صندوق سرمایه‌گذاری مشترک بانک اقتصاد نوین
A2: صورت وضعیت درآمدها
A3: برای ماه منتهی به 1405/05/31
A5: درآمد ناشی از تغییر قیمت اوراق بهادار
C6: طی ماه | K6: از ابتدای سال مالی
C7: تعداد | E7: خالص ارزش فروش | G7: ارزش دفتری | I7: سود و زیان ناشی از تغییر قیمت | K7: تعداد | M7: خالص ارزش فروش | O7: ارزش دفتری | Q7: سود و زیان ناشی از تغییر قیمت
A8: فولاد مبارکه اصفهان | C8: 5000000 | E8: 12567099550 | G8: 1053105319 | I8: =E8-G8 -> 11513994231 | K8: 5000000 | M8: 12567099550 | O8: 15465049023 | Q8: =M8-O8 -> -2897949473
A9: پویا | C9: 100000 | E9: 5533889790 | G9: 3674375810 | I9: =E9-G9 -> 1859513980 | K9: 100000 | M9: 5533889790 | O9: 4127843200 | Q9: =M9-O9 -> 1406046590
A10: دامداری تلیسه نمونه | C10: 700000 | E10: 6668054400 | G10: 4987149020 | I10: =E10-G10 -> 1680905380 | K10: 700000 | M10: 6668054400 | O10: 4794643590 | Q10: =M10-O10 -> 1873410810
A11: فرآورده های دامی ولبنی دالاهو | C11: 1424606 | E11: 9909292507 | G11: 8832419027 | I11: =E11-G11 -> 1076873480 | K11: 1424606 | M11: 9909292507 | O11: 11202314042 | Q11: =M11-O11 -> -1293021535
A12: سیمان‌ قائن‌ | C12: 100000 | E12: 2502504940 | G12: 1862490790 | I12: =E12-G12 -> 640014150 | K12: 100000 | M12: 2502504940 | O12: 1639355635 | Q12: =M12-O12 -> 863149305
A13: پاکدیس | C13: 213759 | E13: 2666180501 | G13: 2293087225 | I13: =E13-G13 -> 373093276 | K13: 213759 | M13: 2666180501 | O13: 1799737555 | Q13: =M13-O13 -> 866442946
A14: قند لرستان‌ | C14: 3280000 | E14: 82667998240 | G14: 59006724728 | I14: =E14-G14 -> 23661273512 | K14: 3280000 | M14: 82667998240 | O14: 32155898528 | Q14: =M14-O14 -> 50512099712
A15: پارس‌ مینو | C15: 58000000 | E15: 101521128240 | G15: 105742055229 | I15: =E15-G15 -> -4220926989 | K15: 58000000 | M15: 101521128240 | O15: 47913858670 | Q15: =M15-O15 -> 53607269570
A16: نفت‌ پارس‌ | C16: 780000 | E16: 11803051650 | G16: 8317207140 | I16: =E16-G16 -> 3485844510 | K16: 780000 | M16: 11803051650 | O16: 10064741192 | Q16: =M16-O16 -> 1738310458
A17: تولیدی کوچین | C17: 250000 | E17: 3792952075 | G17: 3331546525 | I17: =E17-G17 -> 461405550 | K17: 250000 | M17: 3792952075 | O17: 2108560241 | Q17: =M17-O17 -> 1684391834
A18: داروسازی‌ جابرابن‌حیان‌ | C18: 230000 | E18: 8706673115 | G18: 6111930326 | I18: =E18-G18 -> 2594742789 | K18: 230000 | M18: 8706673115 | O18: 5401050111 | Q18: =M18-O18 -> 3305623004
A19: لابراتوارداروسازی‌ دکترعبیدی‌ | C19: 400000 | E19: 8148521240 | G19: 8386666040 | I19: =E19-G19 -> -238144800 | K19: 400000 | M19: 8148521240 | O19: 3890336304 | Q19: =M19-O19 -> 4258184936
... A96: رهیاب پیام گستران | C96: 435000 | E96: 3011966126 | G96: 3011966126 | I96: =E96-G96 -> 0 | K96: 435000 | M96: 3011966126 | O96: 2879027070 | Q96: =M96-O96 -> 132939056
E97: =SUM(E8:E96) -> 1719041412086 | G97: =SUM(G8:G96) -> 1444889357353 | I97: =SUM(I8:I96) -> 274152054733 | M97: =SUM(M8:M96) -> 1719041412086 | O97: =SUM(O8:O96) -> 1113024684223 | Q97: =SUM(Q8:R96) -> 606016727863
Q102: 588956602419
I103: 273476937990 | Q103: 17060125444
I104: 1742787835 | Q104: =SUM(Q102:Q103) -> 606016727863
I105: =SUM(I103:I104) -> 275219725825 | Q105: =Q104-Q97 -> 0
I106: =I105-I97 -> 1067671092
